Workbook
Name in_deal_name: 'Summary & Assumptions'!$C$6
Name in_deal_address: 'Summary & Assumptions'!$C$7
Name in_deal_city: 'Summary & Assumptions'!$C$8
Name in_deal_state: 'Summary & Assumptions'!$C$9
Name in_deal_zip: 'Summary & Assumptions'!$C$10
Name in_deal_units: 'Summary & Assumptions'!$C$11
Name in_deal_year_built: 'Summary & Assumptions'!$C$12
Name in_deal_year_renovated: 'Summary & Assumptions'!$C$13
Name in_deal_floors: 'Summary & Assumptions'!$C$14
Name in_deal_occupied_units: 'Summary & Assumptions'!$C$15
Name in_deal_rentable_sf: 'Summary & Assumptions'!$C$16
Name in_deal_purchase_price: 'Summary & Assumptions'!$H$6
Name out_deal_cap_in: 'Summary & Assumptions'!$H$7
Name in_acq_op_reserve_pct: 'Summary & Assumptions'!$H$8
Name out_acq_op_reserve_usd: 'Summary & Assumptions'!$I$8
Name in_acq_legal: 'Summary & Assumptions'!$H$9
Name in_acq_dd: 'Summary & Assumptions'!$H$10
Name in_acq_add1: 'Summary & Assumptions'!$H$11
Name in_acq_add2: 'Summary & Assumptions'!$T$9
Name in_acq_add3: 'Summary & Assumptions'!$T$10
Name out_acq_fee_usd: 'Summary & Assumptions'!$H$12
Name out_acq_total_costs: 'Summary & Assumptions'!$H$13
Name in_exit_basis: 'Summary & Assumptions'!$M$6
Name out_exit_noi_basis: 'Summary & Assumptions'!$M$7
Name in_exit_cap_rate: 'Summary & Assumptions'!$M$8
Name out_exit_price: 'Summary & Assumptions'!$N$8
Name in_exit_selling_pct: 'Summary & Assumptions'!$M$9
Name in_exit_transfer_pct: 'Summary & Assumptions'!$M$10
Name in_exit_broker_pct: 'Summary & Assumptions'!$M$11
Name in_deal_months_to_close: 'Summary & Assumptions'!$C$21
Name out_deal_start_date: 'Summary & Assumptions'!$C$22
Name in_deal_hold_years: 'Summary & Assumptions'!$C$23
Name out_deal_exit_date: 'Summary & Assumptions'!$C$24
Name in_ltl_capture_months: 'Summary & Assumptions'!$C$26
Name in_stabilization_months: 'Summary & Assumptions'!$C$27
Name out_unlev_emx: 'Summary & Assumptions'!$G$23
Name out_lev_emx: 'Summary & Assumptions'!$H$23
Name out_simple_return: 'Summary & Assumptions'!$H$24
Name out_avg_coc: 'Summary & Assumptions'!$H$25
Name in_debt_senior_include: 'Summary & Assumptions'!$C$31
Name in_debt_mezz_include: 'Summary & Assumptions'!$D$31
Name in_debt_refi_include: 'Summary & Assumptions'!$E$31
Name in_debt_c1_include: 'Summary & Assumptions'!$F$31
Name in_debt_c2_include: 'Summary & Assumptions'!$G$31
Name in_debt_c3_include: 'Summary & Assumptions'!$H$31
Name in_debt_senior_sizing: 'Summary & Assumptions'!$C$32
Name in_debt_mezz_sizing: 'Summary & Assumptions'!$D$32
Name in_debt_refi_sizing: 'Summary & Assumptions'!$E$32
Name in_debt_c1_sizing: 'Summary & Assumptions'!$F$32
Name in_debt_c2_sizing: 'Summary & Assumptions'!$G$32
Name in_debt_c3_sizing: 'Summary & Assumptions'!$H$32
Name in_debt_senior_amount: 'Summary & Assumptions'!$C$33
Name in_debt_mezz_amount: 'Summary & Assumptions'!$D$33
Name in_debt_refi_amount: 'Summary & Assumptions'!$E$33
Name in_debt_c1_amount: 'Summary & Assumptions'!$F$33
Name in_debt_c2_amount: 'Summary & Assumptions'!$G$33
Name in_debt_c3_amount: 'Summary & Assumptions'!$H$33
Name in_debt_senior_ltv: 'Summary & Assumptions'!$C$35
Name in_debt_mezz_ltv: 'Summary & Assumptions'!$D$35
Name in_debt_refi_ltv: 'Summary & Assumptions'!$E$35

Sheet Summary & Assumptions
D1: =IF('Summary & Assumptions'!$C$6="",IFERROR(LEFT('Summary & Assumptions'!$C$7,FIND(",",'Summary & Assumptions'!$C$7)-1),'Summary & Assumptions'!$C$7),'Summary & Assumptions'!$C$6)&", "&'Summary & Assumptions'!$C$8&", "&'Summary & Assumptions'!$C$9&" - "&'Summary & Assumptions'!$C$11&" Units - Built in "&'Summary & Assumptions'!$C$12
B2: Summary | D2: View Dashboard on Slung
B3: Blue cells are inputs. Expand +/− groups for advanced detail.
B5: Property Overview | F5: Acquisition | K5: Exit & Disposition
B6: Name | F6: Purchase Price | H6: =IFERROR('P&L'!$Z$69/0.055,0) | K6: Exit Valuation Basis | M6: Forward NOI
B7: Address | F7: Going-in Cap Rate (Selected NOI) | H7: =IFERROR(CashFlow!$D$57,0) | K7: Exit Year NOI (per basis) | M7: =IF('Summary & Assumptions'!$M$6="Forward NOI",'CashFlow'!$D$61,'CashFlow'!$D$62)
B8: City | F8: Operating Reserve (% of price) | H8: 0.01 | I8: ='Summary & Assumptions'!$H$8*'Summary & Assumptions'!$H$6 | K8: Exit Cap Rate | Exit Price | M8: 0.0525 | N8: =IFERROR('Summary & Assumptions'!$M$7/'Summary & Assumptions'!$M$8,0)
B9: State | F9: Legal Fees | H9: 10000 | K9: Selling Costs (% of price) | M9: 0.005 | N9: =-'Summary & Assumptions'!$M$9*'Summary & Assumptions'!$N$8 | S9: Additional #2 (advanced) | T9: 0
B10: Zip Code | F10: Due Diligence Costs | H10: 10000 | K10: Transfer Tax | M10: =IF('Summary & Assumptions'!$C$9="WA",'WA REET Calculation'!$E$26,0.01) | N10: =-'Summary & Assumptions'!$M$10*'Summary & Assumptions'!$N$8 | S10: Additional #3 (advanced) | T10: 0
B11: Units | Price per unit | D11: =IFERROR('Summary & Assumptions'!$H$6/'Summary & Assumptions'!$C$11,0) | F11: Additional #1 | H11: 0 | K11: Broker Commission (% of price) | M11: 0.015 | N11: =-'Summary & Assumptions'!$M$11*'Summary & Assumptions'!$N$8
B12: Year Built | F12: Acquisition Fee (see Fees) | H12: ='Investor Waterfall'!$H$6*'Summary & Assumptions'!$H$6 | K12: Net Sales Price | N12: =SUM(N8:N11)
B13: Year Renovated | F13: Acquisition Costs | H13: ='Summary & Assumptions'!$I$8+'Summary & Assumptions'!$H$9+'Summary & Assumptions'!$H$10+'Summary & Assumptions'!$H$11+'Summary & Assumptions'!$T$9+'Summary & Assumptions'!$T$10+'Summary & Assumptions'!$H$12
B14: Floors | F14: Loan Fee | H14: ='Summary & Assumptions'!$H$68 | K14: Loan Payoff | N14: =-(N12-N15)
B15: Occupied Units | F15: Renovation Cost | H15: ='Renovation'!$F$16 | K15: Net Sales Proceeds after Debt | N15: =SUM(CashFlow!$F$37:$T$37)
B16: Rentable SF | Price per SF | D16: =IFERROR('Summary & Assumptions'!$H$6/'Summary & Assumptions'!$C$16,0) | F16: Total Project Cost | H16: ='Summary & Assumptions'!$H$6+'Summary & Assumptions'!$H$13+'Summary & Assumptions'!$H$68+'Renovation'!$F$16
F17: Total Equity | H17: =H16-H18-'Renovation'!$D$34
F18: Total Debt | H18: ='Summary & Assumptions'!$C$68+'Summary & Assumptions'!$C$69+'Summary & Assumptions'!$C$70
B20: Returns & Timing | K20: Deal Quality
B21: Months Until Close | C21: 3 | G21: Unlevered | H21: Levered | K21: Yield-on-Cost (untrended) | M21: ='CashFlow'!$D$51
B22: Analysis Start Date | C22: =EOMONTH(TODAY(),'Summary & Assumptions'!$C$21)+1 | F22: Project IRR | G22: ='CashFlow'!$D$32 | H22: ='CashFlow'!$D$41 | K22: YoC Spread vs Exit Cap | M22: ='CashFlow'!$D$51-'Summary & Assumptions'!$M$8
B23: Hold Period (years) | C23: 7 | F23: Equity Multiple | G23: =IF(OR('Summary & Assumptions'!$H$6<=0,'P&L'!$Z$69<=0),0,IFERROR(SUMIF(CashFlow!$E$31:$T$31,">0")/-SUMIF(CashFlow!$E$31:$T$31,"<0"),0)) | H23: =IF(OR('Summary & Assumptions'!$H$6<=0,'P&L'!$Z$69<=0),0,IFERROR(SUMIF(CashFlow!$E$40:$T$40,">0")/-SUMIF(CashFlow!$E$40:$T$40,"<0"),0)) | K23: Yield-on-Cost (trended) | M23: ='CashFlow'!$D$52
B24: Exit Date | C24: =EDATE('Summary & Assumptions'!$C$22,'Summary & Assumptions'!$C$23*12)-1 | F24: Simple Avg Return | H24: =IF(OR('Summary & Assumptions'!$H$6<=0,'P&L'!$Z$69<=0),0,IFERROR(('Summary & Assumptions'!$H$23-1)/MAX(1,'Summary & Assumptions'!$C$23),0)) | K24: Reno Budget | M24: ='Renovation'!$D$31
B25: Underwriting Scenario Chosen (P&L) | C25: ='P&L'!$AB$4 | F25: Avg Cash-on-Cash | H25: =IF(OR('Summary & Assumptions'!$H$6<=0,'P&L'!$Z$69<=0),0,IFERROR(AVERAGE('CashFlow'!$F$44:$T$44),0)) | K25: Reno Simple ROI | M25: ='Renovation'!$O$16
B26: LTL Capture Period (months) | C26: 12 | F26: LP IRR | H26: ='Investor Waterfall'!$D$45 | K26: Expense Ratio (Yr 1) | M26: =IFERROR(-INDEX('CashFlow'!$F$21:$T$21,1,1)/INDEX('CashFlow'!$F$16:$T$16,1,1),0)
B27: Stabilization Period (months) | C27: 12 | F27: GP IRR | H27: ='Investor Waterfall'!$I$45
B29: Debt | K29: Debt & Risk
C30: Senior | D30: Mezz | E30: Refi | F30: Assumed Loan | G30: Custom 1 | H30: Custom 2 | K30: Loan at Close | M30: ='Summary & Assumptions'!$C$68+'Summary & Assumptions'!$C$69+'Summary & Assumptions'!$C$70
B31: Include? | C31: =IF('Summary & Assumptions'!$F$31="Yes","No","Yes") | D31: No | E31: No | F31: No | G31: No | H31: No | J31: =IF(SUMPRODUCT((C31:H31="Yes")*(C37:H37>0))>0,"← "&SUMPRODUCT((C31:H31="Yes")*(C37:H37>0))&" loan(s) have Start Yr > 0 — the annual model funds ALL included loans in Year 1","") | K31: LTV (loan / price) | M31: =IFERROR(('Summary & Assumptions'!$C$68+'Summary & Assumptions'!$C$69+'Summary & Assumptions'!$C$70)/'Summary & Assumptions'!$H$6,0)
B32: Sizing Method | C32: DSCR | D32: DSCR | E32: DSCR | F32: Loan Amount | G32: DSCR | H32: DSCR | K32: DSCR (Year 1) | M32: =INDEX('CashFlow'!$F$45:$T$45,1,1)
B33: Loan Amount (used only when Sizing Method = Loan Amount) | K33: Debt Yield (Year 1) | M33: =INDEX('CashFlow'!$F$46:$T$46,1,1)
B34: → Resolved Amount (computed from the Sizing Method above) | C34: =MAX(0,IF(C31<>"Yes",0,IF(C32="Loan Amount",N(C33),IF(C32="LTV",C35*'Summary & Assumptions'!$H$6,IFERROR(CashFlow!$F$24/(C36*IF(C47>=1,C40,-PMT(C40/12,C48*12,1)*12)),0))))) | D34: =MAX(0,IF(D31<>"Yes",0,IF(D32="Loan Amount",N(D33),IF(D32="LTV",D35*'Summary & Assumptions'!$H$6,IFERROR(CashFlow!$F$24/(D36*IF(D47>=1,D40,-PMT(D40/12,D48*12,1)*12)),0))))) | E34: =MAX(0,IF(E31<>"Yes",0,IF(E32="Loan Amount",N(E33),IF(E32="LTV",E35*'Summary & Assumptions'!$H$6,IFERROR(CashFlow!$F$24/(E36*IF(E47>=1,E40,-PMT(E40/12,E48*12,1)*12)),0))))) | F34: =MAX(0,IF(F31<>"Yes",0,IF(F32="Loan Amount",N(F33),IF(F32="LTV",F35*'Summary & Assumptions'!$H$6,IFERROR(CashFlow!$F$24/(F36*IF(F47>=1,F40,-PMT(F40/12,F48*12,1)*12)),0))))) | G34: =MAX(0,IF(G31<>"Yes",0,IF(G32="Loan Amount",N(G33),IF(G32="LTV",G35*'Summary & Assumptions'!$H$6,IFERROR(CashFlow!$F$24/(G36*IF(G47>=1,G40,-PMT(G40/12,G48*12,1)*12)),0))))) | H34: =MAX(0,IF(H31<>"Yes",0,IF(H32="Loan Amount",N(H33),IF(H32="LTV",H35*'Summary & Assumptions'!$H$6,IFERROR(CashFlow!$F$24/(H36*IF(H47>=1,H40,-PMT(H40/12,H48*12,1)*12)),0))))) | K34: Break-Even Occupancy | M34: ='CashFlow'!$D$56
B35: LTV (% of price) | C35: 0.6 | K35: Total Equity Required | M35: ='Summary & Assumptions'!$C$73
B36: Min DSCR Constraint (on NOI excl. renovation) | C36: 1.25 | D36: 1.2 | E36: 1.25 | G36: 1.2 | H36: 1.2
B37: Start Year (0 = close) | C37: 0 | E37: 5 | F37: 0
B38: Term (years) | C38: 10
B39: Rate Type | C39: Fixed
B40: Fixed Rate | C40: 0.055
B41: Index | C41: SOFR
B42: Spread
B43: Rate Floor
...

Sheet CashFlow
D1: =IF('Summary & Assumptions'!$C$6="",IFERROR(LEFT('Summary & Assumptions'!$C$7,FIND(",",'Summary & Assumptions'!$C$7)-1),'Summary & Assumptions'!$C$7),'Summary & Assumptions'!$C$6)&", "&'Summary & Assumptions'!$C$8&", "&'Summary & Assumptions'!$C$9&" - "&'Summary & Assumptions'!$C$11&" Units - Built in "&'Summary & Assumptions'!$C$12
B2: Cash Flow | D2: View Dashboard on Slung
B3: Everything is on this screen. No engine below — each row reads the rows above it.
B4: Growth Rates (annual)
F5: Yr 1 | G5: Yr 2 | H5: Yr 3 | I5: Yr 4 | J5: Yr 5 | K5: Yr 6 | L5: Yr 7 | M5: Yr 8 | N5: Yr 9 | O5: Yr 10 | P5: After
B6: Residential Rent Growth | F6: 0.03 | G6: 0.03 | H6: 0.03 | I6: 0.03 | J6: 0.03 | K6: 0.03 | L6: 0.03 | M6: 0.03 | N6: 0.03 | O6: 0.03 | P6: 0.03 | Q6: =$P$6 | R6: =$P$6 | S6: =$P$6 | T6: =$P$6
B7: Other Income Growth | F7: 0.03 | G7: 0.03 | H7: 0.03 | I7: 0.03 | J7: 0.03 | K7: 0.03 | L7: 0.03 | M7: 0.03 | N7: 0.03 | O7: 0.03 | P7: 0.03 | Q7: =$P$7 | R7: =$P$7 | S7: =$P$7 | T7: =$P$7
B8: Expense Growth | F8: 0.025 | G8: 0.025 | H8: 0.025 | I8: 0.025 | J8: 0.025 | K8: 0.025 | L8: 0.025 | M8: 0.025 | N8: 0.025 | O8: 0.025 | P8: 0.025 | Q8: =$P$8 | R8: =$P$8 | S8: =$P$8 | T8: =$P$8
B9: Stabilized Vacancy (Market Estimate P&L) | F9: 0.05 | G9: 0.05 | H9: 0.05 | I9: 0.05 | J9: 0.05 | K9: 0.05 | L9: 0.05 | M9: 0.05 | N9: 0.05 | O9: 0.05 | P9: 0.05 | Q9: =$P$9 | R9: =$P$9 | S9: =$P$9 | T9: =$P$9
E10: Underwriting Scenario (P&L): | G10: ='P&L'!$AB$4
B11: Operating Cash Flow
E12: Year 0 | F12: =IF(1>'Summary & Assumptions'!$C$23+1,"",IF(1='Summary & Assumptions'!$C$23+1,"Year 1 (exit value)","Year 1")) | G12: =IF(2>'Summary & Assumptions'!$C$23+1,"",IF(2='Summary & Assumptions'!$C$23+1,"Year 2 (exit value)","Year 2")) | H12: =IF(3>'Summary & Assumptions'!$C$23+1,"",IF(3='Summary & Assumptions'!$C$23+1,"Year 3 (exit value)","Year 3")) | I12: =IF(4>'Summary & Assumptions'!$C$23+1,"",IF(4='Summary & Assumptions'!$C$23+1,"Year 4 (exit value)","Year 4")) | J12: =IF(5>'Summary & Assumptions'!$C$23+1,"",IF(5='Summary & Assumptions'!$C$23+1,"Year 5 (exit value)","Year 5")) | K12: =IF(6>'Summary & Assumptions'!$C$23+1,"",IF(6='Summary & Assumptions'!$C$23+1,"Year 6 (exit value)","Year 6")) | L12: =IF(7>'Summary & Assumptions'!$C$23+1,"",IF(7='Summary & Assumptions'!$C$23+1,"Year 7 (exit value)","Year 7")) | M12: =IF(8>'Summary & Assumptions'!$C$23+1,"",IF(8='Summary & Assumptions'!$C$23+1,"Year 8 (exit value)","Year 8")) | N12: =IF(9>'Summary & Assumptions'!$C$23+1,"",IF(9='Summary & Assumptions'!$C$23+1,"Year 9 (exit value)","Year 9")) | O12: =IF(10>'Summary & Assumptions'!$C$23+1,"",IF(10='Summary & Assumptions'!$C$23+1,"Year 10 (exit value)","Year 10")) | P12: =IF(11>'Summary & Assumptions'!$C$23+1,"",IF(11='Summary & Assumptions'!$C$23+1,"Year 11 (exit value)","Year 11")) | Q12: =IF(12>'Summary & Assumptions'!$C$23+1,"",IF(12='Summary & Assumptions'!$C$23+1,"Year 12 (exit value)","Year 12")) | R12: =IF(13>'Summary & Assumptions'!$C$23+1,"",IF(13='Summary & Assumptions'!$C$23+1,"Year 13 (exit value)","Year 13")) | S12: =IF(14>'Summary & Assumptions'!$C$23+1,"",IF(14='Summary & Assumptions'!$C$23+1,"Year 14 (exit value)","Year 14")) | T12: =IF(15>'Summary & Assumptions'!$C$23+1,"",IF(15='Summary & Assumptions'!$C$23+1,"Year 15 (exit value)","Year 15"))
B13: Gross Potential Rent (market) | F13: =IF(1>'Summary & Assumptions'!$C$23+1,"",'P&L'!$Z$8) | G13: =IF(2>'Summary & Assumptions'!$C$23+1,"",F13*(1+G$6)) | H13: =IF(3>'Summary & Assumptions'!$C$23+1,"",G13*(1+H$6)) | I13: =IF(4>'Summary & Assumptions'!$C$23+1,"",H13*(1+I$6)) | J13: =IF(5>'Summary & Assumptions'!$C$23+1,"",I13*(1+J$6)) | K13: =IF(6>'Summary & Assumptions'!$C$23+1,"",J13*(1+K$6)) | L13: =IF(7>'Summary & Assumptions'!$C$23+1,"",K13*(1+L$6)) | M13: =IF(8>'Summary & Assumptions'!$C$23+1,"",L13*(1+M$6)) | N13: =IF(9>'Summary & Assumptions'!$C$23+1,"",M13*(1+N$6)) | O13: =IF(10>'Summary & Assumptions'!$C$23+1,"",N13*(1+O$6)) | P13: =IF(11>'Summary & Assumptions'!$C$23+1,"",O13*(1+P$6)) | Q13: =IF(12>'Summary & Assumptions'!$C$23+1,"",P13*(1+Q$6)) | R13: =IF(13>'Summary & Assumptions'!$C$23+1,"",Q13*(1+R$6)) | S13: =IF(14>'Summary & Assumptions'!$C$23+1,"",R13*(1+S$6)) | T13: =IF(15>'Summary & Assumptions'!$C$23+1,"",S13*(1+T$6))
B14: Less: Economic Vacancy (scenario) | F14: =IF(1>'Summary & Assumptions'!$C$23+1,"",-('P&L'!$Z$8+'P&L'!$Z$14+'P&L'!$Z$20+'P&L'!$Z$21-'P&L'!$Z$28)) | G14: =IF(2>'Summary & Assumptions'!$C$23+1,"",IFERROR($F$14/$F$13,0)*G13) | H14: =IF(3>'Summary & Assumptions'!$C$23+1,"",IFERROR($F$14/$F$13,0)*H13) | I14: =IF(4>'Summary & Assumptions'!$C$23+1,"",IFERROR($F$14/$F$13,0)*I13) | J14: =IF(5>'Summary & Assumptions'!$C$23+1,"",IFERROR($F$14/$F$13,0)*J13) | K14: =IF(6>'Summary & Assumptions'!$C$23+1,"",IFERROR($F$14/$F$13,0)*K13) | L14: =IF(7>'Summary & Assumptions'!$C$23+1,"",IFERROR($F$14/$F$13,0)*L13) | M14: =IF(8>'Summary & Assumptions'!$C$23+1,"",IFERROR($F$14/$F$13,0)*M13) | N14: =IF(9>'Summary & Assumptions'!$C$23+1,"",IFERROR($F$14/$F$13,0)*N13) | O14: =IF(10>'Summary & Assumptions'!$C$23+1,"",IFERROR($F$14/$F$13,0)*O13) | P14: =IF(11>'Summary & Assumptions'!$C$23+1,"",IFERROR($F$14/$F$13,0)*P13) | Q14: =IF(12>'Summary & Assumptions'!$C$23+1,"",IFERROR($F$14/$F$13,0)*Q13) | R14: =IF(13>'Summary & Assumptions'!$C$23+1,"",IFERROR($F$14/$F$13,0)*R13) | S14: =IF(14>'Summary & Assumptions'!$C$23+1,"",IFERROR($F$14/$F$13,0)*S13) | T14: =IF(15>'Summary & Assumptions'!$C$23+1,"",IFERROR($F$14/$F$13,0)*T13)
B15: Other Income | F15: =IF(1>'Summary & Assumptions'!$C$23+1,"",'P&L'!$Z$14+'P&L'!$Z$20+'P&L'!$Z$21) | G15: =IF(2>'Summary & Assumptions'!$C$23+1,"",F15*(1+G$7)) | H15: =IF(3>'Summary & Assumptions'!$C$23+1,"",G15*(1+H$7)) | I15: =IF(4>'Summary & Assumptions'!$C$23+1,"",H15*(1+I$7)) | J15: =IF(5>'Summary & Assumptions'!$C$23+1,"",I15*(1+J$7)) | K15: =IF(6>'Summary & Assumptions'!$C$23+1,"",J15*(1+K$7)) | L15: =IF(7>'Summary & Assumptions'!$C$23+1,"",K15*(1+L$7)) | M15: =IF(8>'Summary & Assumptions'!$C$23+1,"",L15*(1+M$7)) | N15: =IF(9>'Summary & Assumptions'!$C$23+1,"",M15*(1+N$7)) | O15: =IF(10>'Summary & Assumptions'!$C$23+1,"",N15*(1+O$7)) | P15: =IF(11>'Summary & Assumptions'!$C$23+1,"",O15*(1+P$7)) | Q15: =IF(12>'Summary & Assumptions'!$C$23+1,"",P15*(1+Q$7)) | R15: =IF(13>'Summary & Assumptions'!$C$23+1,"",Q15*(1+R$7)) | S15: =IF(14>'Summary & Assumptions'!$C$23+1,"",R15*(1+S$7)) | T15: =IF(15>'Summary & Assumptions'!$C$23+1,"",S15*(1+T$7))
B16: Effective Gross Revenue | F16: =IF(1>'Summary & Assumptions'!$C$23+1,"",F13+F14+F15) | G16: =IF(2>'Summary & Assumptions'!$C$23+1,"",G13+G14+G15) | H16: =IF(3>'Summary & Assumptions'!$C$23+1,"",H13+H14+H15) | I16: =IF(4>'Summary & Assumptions'!$C$23+1,"",I13+I14+I15) | J16: =IF(5>'Summary & Assumptions'!$C$23+1,"",J13+J14+J15) | K16: =IF(6>'Summary & Assumptions'!$C$23+1,"",K13+K14+K15) | L16: =IF(7>'Summary & Assumptions'!$C$23+1,"",L13+L14+L15) | M16: =IF(8>'Summary & Assumptions'!$C$23+1,"",M13+M14+M15) | N16: =IF(9>'Summary & Assumptions'!$C$23+1,"",N13+N14+N15) | O16: =IF(10>'Summary & Assumptions'!$C$23+1,"",O13+O14+O15) | P16: =IF(11>'Summary & Assumptions'!$C$23+1,"",P13+P14+P15) | Q16: =IF(12>'Summary & Assumptions'!$C$23+1,"",Q13+Q14+Q15) | R16: =IF(13>'Summary & Assumptions'!$C$23+1,"",R13+R14+R15) | S16: =IF(14>'Summary & Assumptions'!$C$23+1,"",S13+S14+S15) | T16: =IF(15>'Summary & Assumptions'!$C$23+1,"",T13+T14+T15)
B17: Renovation Downtime | F17: =IF(1>'Summary & Assumptions'!$C$23+1,"",-'Renovation'!$D$49*(1>='Renovation'!$D$45)*(1<='Renovation'!$D$46)) | G17: =IF(2>'Summary & Assumptions'!$C$23+1,"",-'Renovation'!$D$49*(2>='Renovation'!$D$45)*(2<='Renovation'!$D$46)) | H17: =IF(3>'Summary & Assumptions'!$C$23+1,"",-'Renovation'!$D$49*(3>='Renovation'!$D$45)*(3<='Renovation'!$D$46)) | I17: =IF(4>'Summary & Assumptions'!$C$23+1,"",-'Renovation'!$D$49*(4>='Renovation'!$D$45)*(4<='Renovation'!$D$46)) | J17: =IF(5>'Summary & Assumptions'!$C$23+1,"",-'Renovation'!$D$49*(5>='Renovation'!$D$45)*(5<='Renovation'!$D$46)) | K17: =IF(6>'Summary & Assumptions'!$C$23+1,"",-'Renovation'!$D$49*(6>='Renovation'!$D$45)*(6<='Renovation'!$D$46)) | L17: =IF(7>'Summary & Assumptions'!$C$23+1,"",-'Renovation'!$D$49*(7>='Renovation'!$D$45)*(7<='Renovation'!$D$46)) | M17: =IF(8>'Summary & Assumptions'!$C$23+1,"",-'Renovation'!$D$49*(8>='Renovation'!$D$45)*(8<='Renovation'!$D$46)) | N17: =IF(9>'Summary & Assumptions'!$C$23+1,"",-'Renovation'!$D$49*(9>='Renovation'!$D$45)*(9<='Renovation'!$D$46)) | O17: =IF(10>'Summary & Assumptions'!$C$23+1,"",-'Renovation'!$D$49*(10>='Renovation'!$D$45)*(10<='Renovation'!$D$46)) | P17: =IF(11>'Summary & Assumptions'!$C$23+1,"",-'Renovation'!$D$49*(11>='Renovation'!$D$45)*(11<='Renovation'!$D$46)) | Q17: =IF(12>'Summary & Assumptions'!$C$23+1,"",-'Renovation'!$D$49*(12>='Renovation'!$D$45)*(12<='Renovation'!$D$46)) | R17: =IF(13>'Summary & Assumptions'!$C$23+1,"",-'Renovation'!$D$49*(13>='Renovation'!$D$45)*(13<='Renovation'!$D$46)) | S17: =IF(14>'Summary & Assumptions'!$C$23+1,"",-'Renovation'!$D$49*(14>='Renovation'!$D$45)*(14<='Renovation'!$D$46)) | T17: =IF(15>'Summary & Assumptions'!$C$23+1,"",-'Renovation'!$D$49*(15>='Renovation'!$D$45)*(15<='Renovation'!$D$46))
B18: Renovation Premium | F18: =IF(1>'Summary & Assumptions'!$C$23+1,"",'Renovation'!$D$50*MIN(1,MAX(0,(2*(1-'Renovation'!$D$45)+1)/(2*'Renovation'!$D$47)))) | G18: =IF(2>'Summary & Assumptions'!$C$23+1,"",'Renovation'!$D$50*MIN(1,MAX(0,(2*(2-'Renovation'!$D$45)+1)/(2*'Renovation'!$D$47)))*(1+G$6)^(2-'Renovation'!$D$46)) | H18: =IF(3>'Summary & Assumptions'!$C$23+1,"",'Renovation'!$D$50*MIN(1,MAX(0,(2*(3-'Renovation'!$D$45)+1)/(2*'Renovation'!$D$47)))*(1+H$6)^(3-'Renovation'!$D$46)) | I18: =IF(4>'Summary & Assumptions'!$C$23+1,"",'Renovation'!$D$50*MIN(1,MAX(0,(2*(4-'Renovation'!$D$45)+1)/(2*'Renovation'!$D$47)))*(1+I$6)^(4-'Renovation'!$D$46)) | J18: =IF(5>'Summary & Assumptions'!$C$23+1,"",'Renovation'!$D$50*MIN(1,MAX(0,(2*(5-'Renovation'!$D$45)+1)/(2*'Renovation'!$D$47)))*(1+J$6)^(5-'Renovation'!$D$46)) | K18: =IF(6>'Summary & Assumptions'!$C$23+1,"",'Renovation'!$D$50*MIN(1,MAX(0,(2*(6-'Renovation'!$D$45)+1)/(2*'Renovation'!$D$47)))*(1+K$6)^(6-'Renovation'!$D$46)) | L18: =IF(7>'Summary & Assumptions'!$C$23+1,"",'Renovation'!$D$50*MIN(1,MAX(0,(2*(7-'Renovation'!$D$45)+1)/(2*'Renovation'!$D$47)))*(1+L$6)^(7-'Renovation'!$D$46)) | M18: =IF(8>'Summary & Assumptions'!$C$23+1,"",'Renovation'!$D$50*MIN(1,MAX(0,(2*(8-'Renovation'!$D$45)+1)/(2*'Renovation'!$D$47)))*(1+M$6)^(8-'Renovation'!$D$46)) | N18: =IF(9>'Summary & Assumptions'!$C$23+1,"",'Renovation'!$D$50*MIN(1,MAX(0,(2*(9-'Renovation'!$D$45)+1)/(2*'Renovation'!$D$47)))*(1+N$6)^(9-'Renovation'!$D$46)) | O18: =IF(10>'Summary & Assumptions'!$C$23+1,"",'Renovation'!$D$50*MIN(1,MAX(0,(2*(10-'Renovation'!$D$45)+1)/(2*'Renovation'!$D$47)))*(1+O$6)^(10-'Renovation'!$D$46)) | P18: =IF(11>'Summary & Assumptions'!$C$23+1,"",'Renovation'!$D$50*MIN(1,MAX(0,(2*(11-'Renovation'!$D$45)+1)/(2*'Renovation'!$D$47)))*(1+P$6)^(11-'Renovation'!$D$46)) | Q18: =IF(12>'Summary & Assumptions'!$C$23+1,"",'Renovation'!$D$50*MIN(1,MAX(0,(2*(12-'Renovation'!$D$45)+1)/(2*'Renovation'!$D$47)))*(1+Q$6)^(12-'Renovation'!$D$46)) | R18: =IF(13>'Summary & Assumptions'!$C$23+1,"",'Renovation'!$D$50*MIN(1,MAX(0,(2*(13-'Renovation'!$D$45)+1)/(2*'Renovation'!$D$47)))*(1+R$6)^(13-'Renovation'!$D$46)) | S18: =IF(14>'Summary & Assumptions'!$C$23+1,"",'Renovation'!$D$50*MIN(1,MAX(0,(2*(14-'Renovation'!$D$45)+1)/(2*'Renovation'!$D$47)))*(1+S$6)^(14-'Renovation'!$D$46)) | T18: =IF(15>'Summary & Assumptions'!$C$23+1,"",'Renovation'!$D$50*MIN(1,MAX(0,(2*(15-'Renovation'!$D$45)+1)/(2*'Renovation'!$D$47)))*(1+T$6)^(15-'Renovation'!$D$46))
B19: Property Taxes | F19: =IF(1>'Summary & Assumptions'!$C$23+1,"",-INDEX('Summary & Assumptions'!$D$56:$R$56,1,1)) | G19: =IF(2>'Summary & Assumptions'!$C$23+1,"",-INDEX('Summary & Assumptions'!$D$56:$R$56,1,2)) | H19: =IF(3>'Summary & Assumptions'!$C$23+1,"",-INDEX('Summary & Assumptions'!$D$56:$R$56,1,3)) | I19: =IF(4>'Summary & Assumptions'!$C$23+1,"",-INDEX('Summary & Assumptions'!$D$56:$R$56,1,4)) | J19: =IF(5>'Summary & Assumptions'!$C$23+1,"",-INDEX('Summary & Assumptions'!$D$56:$R$56,1,5)) | K19: =IF(6>'Summary & Assumptions'!$C$23+1,"",-INDEX('Summary & Assumptions'!$D$56:$R$56,1,6)) | L19: =IF(7>'Summary & Assumptions'!$C$23+1,"",-INDEX('Summary & Assumptions'!$D$56:$R$56,1,7)) | M19: =IF(8>'Summary & Assumptions'!$C$23+1,"",-INDEX('Summary & Assumptions'!$D$56:$R$56,1,8)) | N19: =IF(9>'Summary & Assumptions'!$C$23+1,"",-INDEX('Summary & Assumptions'!$D$56:$R$56,1,9)) | O19: =IF(10>'Summary & Assumptions'!$C$23+1,"",-INDEX('Summary & Assumptions'!$D$56:$R$56,1,10)) | P19: =IF(11>'Summary & Assumptions'!$C$23+1,"",O19*(1+P$8)) | Q19: =IF(12>'Summary & Assumptions'!$C$23+1,"",P19*(1+Q$8)) | R19: =IF(13>'Summary & Assumptions'!$C$23+1,"",Q19*(1+R$8)) | S19: =IF(14>'Summary & Assumptions'!$C$23+1,"",R19*(1+S$8)) | T19: =IF(15>'Summary & Assumptions'!$C$23+1,"",S19*(1+T$8))
B20: Other Operating Expenses | F20: =IF(1>'Summary & Assumptions'!$C$23+1,"",-('P&L'!$Z$67-'P&L'!$Z$31)) | G20: =IF(2>'Summary & Assumptions'!$C$23+1,"",F20*(1+G$8)) | H20: =IF(3>'Summary & Assumptions'!$C$23+1,"",G20*(1+H$8)) | I20: =IF(4>'Summary & Assumptions'!$C$23+1,"",H20*(1+I$8)) | J20: =IF(5>'Summary & Assumptions'!$C$23+1,"",I20*(1+J$8)) | K20: =IF(6>'Summary & Assumptions'!$C$23+1,"",J20*(1+K$8)) | L20: =IF(7>'Summary & Assumptions'!$C$23+1,"",K20*(1+L$8)) | M20: =IF(8>'Summary & Assumptions'!$C$23+1,"",L20*(1+M$8)) | N20: =IF(9>'Summary & Assumptions'!$C$23+1,"",M20*(1+N$8)) | O20: =IF(10>'Summary & Assumptions'!$C$23+1,"",N20*(1+O$8)) | P20: =IF(11>'Summary & Assumptions'!$C$23+1,"",O20*(1+P$8)) | Q20: =IF(12>'Summary & Assumptions'!$C$23+1,"",P20*(1+Q$8)) | R20: =IF(13>'Summary & Assumptions'!$C$23+1,"",Q20*(1+R$8)) | S20: =IF(14>'Summary & Assumptions'!$C$23+1,"",R20*(1+S$8)) | T20: =IF(15>'Summary & Assumptions'!$C$23+1,"",S20*(1+T$8))
B21: Total Operating Expenses | F21: =IF(1>'Summary & Assumptions'!$C$23+1,"",F19+F20) | G21: =IF(2>'Summary & Assumptions'!$C$23+1,"",G19+G20) | H21: =IF(3>'Summary & Assumptions'!$C$23+1,"",H19+H20) | I21: =IF(4>'Summary & Assumptions'!$C$23+1,"",I19+I20) | J21: =IF(5>'Summary & Assumptions'!$C$23+1,"",J19+J20) | K21: =IF(6>'Summary & Assumptions'!$C$23+1,"",K19+K20) | L21: =IF(7>'Summary & Assumptions'!$C$23+1,"",L19+L20) | M21: =IF(8>'Summary & Assumptions'!$C$23+1,"",M19+M20) | N21: =IF(9>'Summary & Assumptions'!$C$23+1,"",N19+N20) | O21: =IF(10>'Summary & Assumptions'!$C$23+1,"",O19+O20) | P21: =IF(11>'Summary & Assumptions'!$C$23+1,"",P19+P20) | Q21: =IF(12>'Summary & Assumptions'!$C$23+1,"",Q19+Q20) | R21: =IF(13>'Summary & Assumptions'!$C$23+1,"",R19+R20) | S21: =IF(14>'Summary & Assumptions'!$C$23+1,"",S19+S20) | T21: =IF(15>'Summary & Assumptions'!$C$23+1,"",T19+T20)
B22: Expense Ratio (= -Opex / EGR) | F22: =IF(1>'Summary & Assumptions'!$C$23+1,"",IFERROR(-F21/F16,0)) | G22: =IF(2>'Summary & Assumptions'!$C$23+1,"",IFERROR(-G21/G16,0)) | H22: =IF(3>'Summary & Assumptions'!$C$23+1,"",IFERROR(-H21/H16,0)) | I22: =IF(4>'Summary & Assumptions'!$C$23+1,"",IFERROR(-I21/I16,0)) | J22: =IF(5>'Summary & Assumptions'!$C$23+1,"",IFERROR(-J21/J16,0)) | K22: =IF(6>'Summary & Assumptions'!$C$23+1,"",IFERROR(-K21/K16,0)) | L22: =IF(7>'Summary & Assumptions'!$C$23+1,"",IFERROR(-L21/L16,0)) | M22: =IF(8>'Summary & Assumptions'!$C$23+1,"",IFERROR(-M21/M16,0)) | N22: =IF(9>'Summary & Assumptions'!$C$23+1,"",IFERROR(-N21/N16,0)) | O22: =IF(10>'Summary & Assumptions'!$C$23+1,"",IFERROR(-O21/O16,0)) | P22: =IF(11>'Summary & Assumptions'!$C$23+1,"",IFERROR(-P21/P16,0)) | Q22: =IF(12>'Summary & Assumptions'!$C$23+1,"",IFERROR(-Q21/Q16,0)) | R22: =IF(13>'Summary & Assumptions'!$C$23+1,"",IFERROR(-R21/R16,0)) | S22: =IF(14>'Summary & Assumptions'!$C$23+1,"",IFERROR(-S21/S16,0)) | T22: =IF(15>'Summary & Assumptions'!$C$23+1,"",IFERROR(-T21/T16,0))
B23: Net Operating Income | F23: =IF(1>'Summary & Assumptions'!$C$23+1,"",F16+F17+F18+F21) | G23: =IF(2>'Summary & Assumptions'!$C$23+1,"",G16+G17+G18+G21) | H23: =IF(3>'Summary & Assumptions'!$C$23+1,"",H16+H17+H18+H21) | I23: =IF(4>'Summary & Assumptions'!$C$23+1,"",I16+I17+I18+I21) | J23: =IF(5>'Summary & Assumptions'!$C$23+1,"",J16+J17+J18+J21) | K23: =IF(6>'Summary & Assumptions'!$C$23+1,"",K16+K17+K18+K21) | L23: =IF(7>'Summary & Assumptions'!$C$23+1,"",L16+L17+L18+L21) | M23: =IF(8>'Summary & Assumptions'!$C$23+1,"",M16+M17+M18+M21) | N23: =IF(9>'Summary & Assumptions'!$C$23+1,"",N16+N17+N18+N21) | O23: =IF(10>'Summary & Assumptions'!$C$23+1,"",O16+O17+O18+O21) | P23: =IF(11>'Summary & Assumptions'!$C$23+1,"",P16+P17+P18+P21) | Q23: =IF(12>'Summary & Assumptions'!$C$23+1,"",Q16+Q17+Q18+Q21) | R23: =IF(13>'Summary & Assumptions'!$C$23+1,"",R16+R17+R18+R21) | S23: =IF(14>'Summary & Assumptions'!$C$23+1,"",S16+S17+S18+S21) | T23: =IF(15>'Summary & Assumptions'!$C$23+1,"",T16+T17+T18+T21)
B24: NOI for Debt Sizing (excl. renovation) | F24: =IF(1>'Summary & Assumptions'!$C$23+1,"",F16+F21) | G24: =IF(2>'Summary & Assumptions'!$C$23+1,"",G16+G21) | H24: =IF(3>'Summary & Assumptions'!$C$23+1,"",H16+H21) | I24: =IF(4>'Summary & Assumptions'!$C$23+1,"",I16+I21) | J24: =IF(5>'Summary & Assumptions'!$C$23+1,"",J16+J21) | K24: =IF(6>'Summary & Assumptions'!$C$23+1,"",K16+K21) | L24: =IF(7>'Summary & Assumptions'!$C$23+1,"",L16+L21) | M24: =IF(8>'Summary & Assumptions'!$C$23+1,"",M16+M21) | N24: =IF(9>'Summary & Assumptions'!$C$23+1,"",N16+N21) | O24: =IF(10>'Summary & Assumptions'!$C$23+1,"",O16+O21) | P24: =IF(11>'Summary & Assumptions'!$C$23+1,"",P16+P21) | Q24: =IF(12>'Summary & Assumptions'!$C$23+1,"",Q16+Q21) | R24: =IF(13>'Summary & Assumptions'!$C$23+1,"",R16+R21) | S24: =IF(14>'Summary & Assumptions'!$C$23+1,"",S16+S21) | T24: =IF(15>'Summary & Assumptions'!$C$23+1,"",T16+T21)
B25: Replacement Reserves | F25: =IF(1>'Summary & Assumptions'!$C$23+1,"",-'Investor Waterfall'!$H$13*'Summary & Assumptions'!$C$11) | G25: =IF(2>'Summary & Assumptions'!$C$23+1,"",F25*(1+G$8)) | H25: =IF(3>'Summary & Assumptions'!$C$23+1,"",G25*(1+H$8)) | I25: =IF(4>'Summary & Assumptions'!$C$23+1,"",H25*(1+I$8)) | J25: =IF(5>'Summary & Assumptions'!$C$23+1,"",I25*(1+J$8)) | K25: =IF(6>'Summary & Assumptions'!$C$23+1,"",J25*(1+K$8)) | L25: =IF(7>'Summary & Assumptions'!$C$23+1,"",K25*(1+L$8)) | M25: =IF(8>'Summary & Assumptions'!$C$23+1,"",L25*(1+M$8)) | N25: =IF(9>'Summary & Assumptions'!$C$23+1,"",M25*(1+N$8)) | O25: =IF(10>'Summary & Assumptions'!$C$23+1,"",N25*(1+O$8)) | P25: =IF(11>'Summary & Assumptions'!$C$23+1,"",O25*(1+P$8)) | Q25: =IF(12>'Summary & Assumptions'!$C$23+1,"",P25*(1+Q$8)) | R25: =IF(13>'Summary & Assumptions'!$C$23+1,"",Q25*(1+R$8)) | S25: =IF(14>'Summary & Assumptions'!$C$23+1,"",R25*(1+S$8)) | T25: =IF(15>'Summary & Assumptions'!$C$23+1,"",S25*(1+T$8))
B26: NOI After Reserves | F26: =IF(1>'Summary & Assumptions'!$C$23+1,"",F23+F25) | G26: =IF(2>'Summary & Assumptions'!$C$23+1,"",G23+G25) | H26: =IF(3>'Summary & Assumptions'!$C$23+1,"",H23+H25) | I26: =IF(4>'Summary & Assumptions'!$C$23+1,"",I23+I25) | J26: =IF(5>'Summary & Assumptions'!$C$23+1,"",J23+J25) | K26: =IF(6>'Summary & Assumptions'!$C$23+1,"",K23+K25) | L26: =IF(7>'Summary & Assumptions'!$C$23+1,"",L23+L25) | M26: =IF(8>'Summary & Assumptions'!$C$23+1,"",M23+M25) | N26: =IF(9>'Summary & Assumptions'!$C$23+1,"",N23+N25) | O26: =IF(10>'Summary & Assumptions'!$C$23+1,"",O23+O25) | P26: =IF(11>'Summary & Assumptions'!$C$23+1,"",P23+P25) | Q26: =IF(12>'Summary & Assumptions'!$C$23+1,"",Q23+Q25) | R26: =IF(13>'Summary & Assumptions'!$C$23+1,"",R23+R25) | S26: =IF(14>'Summary & Assumptions'!$C$23+1,"",S23+S25) | T26: =IF(15>'Summary & Assumptions'!$C$23+1,"",T23+T25)
B27: Capital Expenditures | F27: =IF(1>'Summary & Assumptions'!$C$23+1,"",-'Renovation'!$D$48*(1>='Renovation'!$D$45)*(1<='Renovation'!$D$46)) | G27: =IF(2>'Summary & Assumptions'!$C$23+1,"",-'Renovation'!$D$48*(2>='Renovation'!$D$45)*(2<='Renovation'!$D$46)) | H27: =IF(3>'Summary & Assumptions'!$C$23+1,"",-'Renovation'!$D$48*(3>='Renovation'!$D$45)*(3<='Renovation'!$D$46)) | I27: =IF(4>'Summary & Assumptions'!$C$23+1,"",-'Renovation'!$D$48*(4>='Renovation'!$D$45)*(4<='Renovation'!$D$46)) | J27: =IF(5>'Summary & Assumptions'!$C$23+1,"",-'Renovation'!$D$48*(5>='Renovation'!$D$45)*(5<='Renovation'!$D$46)) | K27: =IF(6>'Summary & Assumptions'!$C$23+1,"",-'Renovation'!$D$48*(6>='Renovation'!$D$45)*(6<='Renovation'!$D$46)) | L27: =IF(7>'Summary & Assumptions'!$C$23+1,"",-'Renovation'!$D$48*(7>='Renovation'!$D$45)*(7<='Renovation'!$D$46)) | M27: =IF(8>'Summary & Assumptions'!$C$23+1,"",-'Renovation'!$D$48*(8>='Renovation'!$D$45)*(8<='Renovation'!$D$46)) | N27: =IF(9>'Summary & Assumptions'!$C$23+1,"",-'Renovation'!$D$48*(9>='Renovation'!$D$45)*(9<='Renovation'!$D$46)) | O27: =IF(10>'Summary & Assumptions'!$C$23+1,"",-'Renovation'!$D$48*(10>='Renovation'!$D$45)*(10<='Renovation'!$D$46)) | P27: =IF(11>'Summary & Assumptions'!$C$23+1,"",-'Renovation'!$D$48*(11>='Renovation'!$D$45)*(11<='Renovation'!$D$46)) | Q27: =IF(12>'Summary & Assumptions'!$C$23+1,"",-'Renovation'!$D$48*(12>='Renovation'!$D$45)*(12<='Renovation'!$D$46)) | R27: =IF(13>'Summary & Assumptions'!$C$23+1,"",-'Renovation'!$D$48*(13>='Renovation'!$D$45)*(13<='Renovation'!$D$46)) | S27: =IF(14>'Summary & Assumptions'!$C$23+1,"",-'Renovation'!$D$48*(14>='Renovation'!$D$45)*(14<='Renovation'!$D$46)) | T27: =IF(15>'Summary & Assumptions'!$C$23+1,"",-'Renovation'!$D$48*(15>='Renovation'!$D$45)*(15<='Renovation'!$D$46))
B28: Gross Sale Price | F28: =IF(1>'Summary & Assumptions'!$C$23,"",IF(1<>MIN('Summary & Assumptions'!$C$23,15),0,IFERROR(IF('Summary & Assumptions'!$M$6="Forward NOI",INDEX($F$23:$T$23,1,MIN('Summary & Assumptions'!$C$23+1,15)),INDEX($F$23:$T$23,1,MAX(1,MIN('Summary & Assumptions'!$C$23,15))))/'Summary & Assumptions'!$M$8,0))) | G28: =IF(2>'Summary & Assumptions'!$C$23,"",IF(2<>MIN('Summary & Assumptions'!$C$23,15),0,IFERROR(IF('Summary & Assumptions'!$M$6="Forward NOI",INDEX($F$23:$T$23,1,MIN('Summary & Assumptions'!$C$23+1,15)),INDEX($F$23:$T$23,1,MAX(1,MIN('Summary & Assumptions'!$C$23,15))))/'Summary & Assumptions'!$M$8,0))) | H28: =IF(3>'Summary & Assumptions'!$C$23,"",IF(3<>MIN('Summary & Assumptions'!$C$23,15),0,IFERROR(IF('Summary & Assumptions'!$M$6="Forward NOI",INDEX($F$23:$T$23,1,MIN('Summary & Assumptions'!$C$23+1,15)),INDEX($F$23:$T$23,1,MAX(1,MIN('Summary & Assumptions'!$C$23,15))))/'Summary & Assumptions'!$M$8,0))) | I28: =IF(4>'Summary & Assumptions'!$C$23,"",IF(4<>MIN('Summary & Assumptions'!$C$23,15),0,IFERROR(IF('Summary & Assumptions'!$M$6="Forward NOI",INDEX($F$23:$T$23,1,MIN('Summary & Assumptions'!$C$23+1,15)),INDEX($F$23:$T$23,1,MAX(1,MIN('Summary & Assumptions'!$C$23,15))))/'Summary & Assumptions'!$M$8,0))) | J28: =IF(5>'Summary & Assumptions'!$C$23,"",IF(5<>MIN('Summary & Assumptions'!$C$23,15),0,IFERROR(IF('Summary & Assumptions'!$M$6="Forward NOI",INDEX($F$23:$T$23,1,MIN('Summary & Assumptions'!$C$23+1,15)),INDEX($F$23:$T$23,1,MAX(1,MIN('Summary & Assumptions'!$C$23,15))))/'Summary & Assumptions'!$M$8,0))) | K28: =IF(6>'Summary & Assumptions'!$C$23,"",IF(6<>MIN('Summary & Assumptions'!$C$23,15),0,IFERROR(IF('Summary & Assumptions'!$M$6="Forward NOI",INDEX($F$23:$T$23,1,MIN('Summary & Assumptions'!$C$23+1,15)),INDEX($F$23:$T$23,1,MAX(1,MIN('Summary & Assumptions'!$C$23,15))))/'Summary & Assumptions'!$M$8,0))) | L28: =IF(7>'Summary & Assumptions'!$C$23,"",IF(7<>MIN('Summary & Assumptions'!$C$23,15),0,IFERROR(IF('Summary & Assumptions'!$M$6="Forward NOI",INDEX($F$23:$T$23,1,MIN('Summary & Assumptions'!$C$23+1,15)),INDEX($F$23:$T$23,1,MAX(1,MIN('Summary & Assumptions'!$C$23,15))))/'Summary & Assumptions'!$M$8,0))) | M28: =IF(8>'Summary & Assumptions'!$C$23,"",IF(8<>MIN('Summary & Assumptions'!$C$23,15),0,IFERROR(IF('Summary & Assumptions'!$M$6="Forward NOI",INDEX($F$23:$T$23,1,MIN('Summary & Assumptions'!$C$23+1,15)),INDEX($F$23:$T$23,1,MAX(1,MIN('Summary & Assumptions'!$C$23,15))))/'Summary & Assumptions'!$M$8,0))) | N28: =IF(9>'Summary & Assumptions'!$C$23,"",IF(9<>MIN('Summary & Assumptions'!$C$23,15),0,IFERROR(IF('Summary & Assumptions'!$M$6="Forward NOI",INDEX($F$23:$T$23,1,MIN('Summary & Assumptions'!$C$23+1,15)),INDEX($F$23:$T$23,1,MAX(1,MIN('Summary & Assumptions'!$C$23,15))))/'Summary & Assumptions'!$M$8,0))) | O28: =IF(10>'Summary & Assumptions'!$C$23,"",IF(10<>MIN('Summary & Assumptions'!$C$23,15),0,IFERROR(IF('Summary & Assumptions'!$M$6="Forward NOI",INDEX($F$23:$T$23,1,MIN('Summary & Assumptions'!$C$23+1,15)),INDEX($F$23:$T$23,1,MAX(1,MIN('Summary & Assumptions'!$C$23,15))))/'Summary & Assumptions'!$M$8,0))) | P28: =IF(11>'Summary & Assumptions'!$C$23,"",IF(11<>MIN('Summary & Assumptions'!$C$23,15),0,IFERROR(IF('Summary & Assumptions'!$M$6="Forward NOI",INDEX($F$23:$T$23,1,MIN('Summary & Assumptions'!$C$23+1,15)),INDEX($F$23:$T$23,1,MAX(1,MIN('Summary & Assumptions'!$C$23,15))))/'Summary & Assumptions'!$M$8,0))) | Q28: =IF(12>'Summary & Assumptions'!$C$23,"",IF(12<>MIN('Summary & Assumptions'!$C$23,15),0,IFERROR(IF('Summary & Assumptions'!$M$6="Forward NOI",INDEX($F$23:$T$23,1,MIN('Summary & Assumptions'!$C$23+1,15)),INDEX($F$23:$T$23,1,MAX(1,MIN('Summary & Assumptions'!$C$23,15))))/'Summary & Assumptions'!$M$8,0))) | R28: =IF(13>'Summary & Assumptions'!$C$23,"",IF(13<>MIN('Summary & Assumptions'!$C$23,15),0,IFERROR(IF('Summary & Assumptions'!$M$6="Forward NOI",INDEX($F$23:$T$23,1,MIN('Summary & Assumptions'!$C$23+1,15)),INDEX($F$23:$T$23,1,MAX(1,MIN('Summary & Assumptions'!$C$23,15))))/'Summary & Assumptions'!$M$8,0))) | S28: =IF(14>'Summary & Assumptions'!$C$23,"",IF(14<>MIN('Summary & Assumptions'!$C$23,15),0,IFERROR(IF('Summary & Assumptions'!$M$6="Forward NOI",INDEX($F$23:$T$23,1,MIN('Summary & Assumptions'!$C$23+1,15)),INDEX($F$23:$T$23,1,MAX(1,MIN('Summary & Assumptions'!$C$23,15))))/'Summary & Assumptions'!$M$8,0))) | T28: =IF(15>'Summary & Assumptions'!$C$23,"",IF(15<>MIN('Summary & Assumptions'!$C$23,15),0,IFERROR(IF('Summary & Assumptions'!$M$6="Forward NOI",INDEX($F$23:$T$23,1,MIN('Summary & Assumptions'!$C$23+1,15)),INDEX($F$23:$T$23,1,MAX(1,MIN('Summary & Assumptions'!$C$23,15))))/'Summary & Assumptions'!$M$8,0)))
B29: Transaction Costs | F29: =IF(1>'Summary & Assumptions'!$C$23,"",-F28*('Summary & Assumptions'!$M$9+'Summary & Assumptions'!$M$10+'Summary & Assumptions'!$M$11)) | G29: =IF(2>'Summary & Assumptions'!$C$23,"",-G28*('Summary & Assumptions'!$M$9+'Summary & Assumptions'!$M$10+'Summary & Assumptions'!$M$11)) | H29: =IF(3>'Summary & Assumptions'!$C$23,"",-H28*('Summary & Assumptions'!$M$9+'Summary & Assumptions'!$M$10+'Summary & Assumptions'!$M$11)) | I29: =IF(4>'Summary & Assumptions'!$C$23,"",-I28*('Summary & Assumptions'!$M$9+'Summary & Assumptions'!$M$10+'Summary & Assumptions'!$M$11)) | J29: =IF(5>'Summary & Assumptions'!$C$23,"",-J28*('Summary & Assumptions'!$M$9+'Summary & Assumptions'!$M$10+'Summary & Assumptions'!$M$11)) | K29: =IF(6>'Summary & Assumptions'!$C$23,"",-K28*('Summary & Assumptions'!$M$9+'Summary & Assumptions'!$M$10+'Summary & Assumptions'!$M$11)) | L29: =IF(7>'Summary & Assumptions'!$C$23,"",-L28*('Summary & Assumptions'!$M$9+'Summary & Assumptions'!$M$10+'Summary & Assumptions'!$M$11)) | M29: =IF(8>'Summary & Assumptions'!$C$23,"",-M28*('Summary & Assumptions'!$M$9+'Summary & Assumptions'!$M$10+'Summary & Assumptions'!$M$11)) | N29: =IF(9>'Summary & Assumptions'!$C$23,"",-N28*('Summary & Assumptions'!$M$9+'Summary & Assumptions'!$M$10+'Summary & Assumptions'!$M$11)) | O29: =IF(10>'Summary & Assumptions'!$C$23,"",-O28*('Summary & Assumptions'!$M$9+'Summary & Assumptions'!$M$10+'Summary & Assumptions'!$M$11)) | P29: =IF(11>'Summary & Assumptions'!$C$23,"",-P28*('Summary & Assumptions'!$M$9+'Summary & Assumptions'!$M$10+'Summary & Assumptions'!$M$11)) | Q29: =IF(12>'Summary & Assumptions'!$C$23,"",-Q28*('Summary & Assumptions'!$M$9+'Summary & Assumptions'!$M$10+'Summary & Assumptions'!$M$11)) | R29: =IF(13>'Summary & Assumptions'!$C$23,"",-R28*('Summary & Assumptions'!$M$9+'Summary & Assumptions'!$M$10+'Summary & Assumptions'!$M$11)) | S29: =IF(14>'Summary & Assumptions'!$C$23,"",-S28*('Summary & Assumptions'!$M$9+'Summary & Assumptions'!$M$10+'Summary & Assumptions'!$M$11)) | T29: =IF(15>'Summary & Assumptions'!$C$23,"",-T28*('Summary & Assumptions'!$M$9+'Summary & Assumptions'!$M$10+'Summary & Assumptions'!$M$11))
B30: Net Sale Proceeds (exit) | F30: =IF(1>'Summary & Assumptions'!$C$23,"",F28+F29) | G30: =IF(2>'Summary & Assumptions'!$C$23,"",G28+G29) | H30: =IF(3>'Summary & Assumptions'!$C$23,"",H28+H29) | I30: =IF(4>'Summary & Assumptions'!$C$23,"",I28+I29) | J30: =IF(5>'Summary & Assumptions'!$C$23,"",J28+J29) | K30: =IF(6>'Summary & Assumptions'!$C$23,"",K28+K29) | L30: =IF(7>'Summary & Assumptions'!$C$23,"",L28+L29) | M30: =IF(8>'Summary & Assumptions'!$C$23,"",M28+M29) | N30: =IF(9>'Summary & Assumptions'!$C$23,"",N28+N29) | O30: =IF(10>'Summary & Assumptions'!$C$23,"",O28+O29) | P30: =IF(11>'Summary & Assumptions'!$C$23,"",P28+P29) | Q30: =IF(12>'Summary & Assumptions'!$C$23,"",Q28+Q29) | R30: =IF(13>'Summary & Assumptions'!$C$23,"",R28+R29) | S30: =IF(14>'Summary & Assumptions'!$C$23,"",S28+S29) | T30: =IF(15>'Summary & Assumptions'!$C$23,"",T28+T29)
B31: Unlevered Cash Flow | E31: =-('Summary & Assumptions'!$H$6+'Summary & Assumptions'!$H$13) | F31: =IF(1>'Summary & Assumptions'!$C$23,"",F26+F27+F30) | G31: =IF(2>'Summary & Assumptions'!$C$23,"",G26+G27+G30) | H31: =IF(3>'Summary & Assumptions'!$C$23,"",H26+H27+H30) | I31: =IF(4>'Summary & Assumptions'!$C$23,"",I26+I27+I30) | J31: =IF(5>'Summary & Assumptions'!$C$23,"",J26+J27+J30) | K31: =IF(6>'Summary & Assumptions'!$C$23,"",K26+K27+K30) | L31: =IF(7>'Summary & Assumptions'!$C$23,"",L26+L27+L30) | M31: =IF(8>'Summary & Assumptions'!$C$23,"",M26+M27+M30) | N31: =IF(9>'Summary & Assumptions'!$C$23,"",N26+N27+N30) | O31: =IF(10>'Summary & Assumptions'!$C$23,"",O26+O27+O30) | P31: =IF(11>'Summary & Assumptions'!$C$23,"",P26+P27+P30) | Q31: =IF(12>'Summary & Assumptions'!$C$23,"",Q26+Q27+Q30) | R31: =IF(13>'Summary & Assumptions'!$C$23,"",R26+R27+R30) | S31: =IF(14>'Summary & Assumptions'!$C$23,"",S26+S27+S30) | T31: =IF(15>'Summary & Assumptions'!$C$23,"",T26+T27+T30)
B32: Unlevered IRR | D32: =IF(OR('Summary & Assumptions'!$H$6<=0,'P&L'!$Z$69<=0),0,IFERROR(IRR(E31:T31),0))
B34: Levered Cash Flow
B35: Debt Service | F35: =IF(1>'Summary & Assumptions'!$C$23,"",-Debt!F39) | G35: =IF(2>'Summary & Assumptions'!$C$23,"",-Debt!G39) | H35: =IF(3>'Summary & Assumptions'!$C$23,"",-Debt!H39) | I35: =IF(4>'Summary & Assumptions'!$C$23,"",-Debt!I39) | J35: =IF(5>'Summary & Assumptions'!$C$23,"",-Debt!J39) | K35: =IF(6>'Summary & Assumptions'!$C$23,"",-Debt!K39) | L35: =IF(7>'Summary & Assumptions'!$C$23,"",-Debt!L39) | M35: =IF(8>'Summary & Assumptions'!$C$23,"",-Debt!M39) | N35: =IF(9>'Summary & Assumptions'!$C$23,"",-Debt!N39) | O35: =IF(10>'Summary & Assumptions'!$C$23,"",-Debt!O39) | P35: =IF(11>'Summary & Assumptions'!$C$23,"",-Debt!P39) | Q35: =IF(12>'Summary & Assumptions'!$C$23,"",-Debt!Q39) | R35: =IF(13>'Summary & Assumptions'!$C$23,"",-Debt!R39) | S35: =IF(14>'Summary & Assumptions'!$C$23,"",-Debt!S39) | T35: =IF(15>'Summary & Assumptions'!$C$23,"",-Debt!T39)
B36: Loan Payoff + Exit Fees | F36: =IF(1>'Summary & Assumptions'!$C$23,"",-Debt!F47) | G36: =IF(2>'Summary & Assumptions'!$C$23,"",-Debt!G47) | H36: =IF(3>'Summary & Assumptions'!$C$23,"",-Debt!H47) | I36: =IF(4>'Summary & Assumptions'!$C$23,"",-Debt!I47) | J36: =IF(5>'Summary & Assumptions'!$C$23,"",-Debt!J47) | K36: =IF(6>'Summary & Assumptions'!$C$23,"",-Debt!K47) | L36: =IF(7>'Summary & Assumptions'!$C$23,"",-Debt!L47) | M36: =IF(8>'Summary & Assumptions'!$C$23,"",-Debt!M47) | N36: =IF(9>'Summary & Assumptions'!$C$23,"",-Debt!N47) | O36: =IF(10>'Summary & Assumptions'!$C$23,"",-Debt!O47) | P36: =IF(11>'Summary & Assumptions'!$C$23,"",-Debt!P47) | Q36: =IF(12>'Summary & Assumptions'!$C$23,"",-Debt!Q47) | R36: =IF(13>'Summary & Assumptions'!$C$23,"",-Debt!R47) | S36: =IF(14>'Summary & Assumptions'!$C$23,"",-Debt!S47) | T36: =IF(15>'Summary & Assumptions'!$C$23,"",-Debt!T47)
B37: Net Sale Proceeds after Debt | F37: =IF(1>'Summary & Assumptions'!$C$23,"",F30+F36) | G37: =IF(2>'Summary & Assumptions'!$C$23,"",G30+G36) | H37: =IF(3>'Summary & Assumptions'!$C$23,"",H30+H36) | I37: =IF(4>'Summary & Assumptions'!$C$23,"",I30+I36) | J37: =IF(5>'Summary & Assumptions'!$C$23,"",J30+J36) | K37: =IF(6>'Summary & Assumptions'!$C$23,"",K30+K36) | L37: =IF(7>'Summary & Assumptions'!$C$23,"",L30+L36) | M37: =IF(8>'Summary & Assumptions'!$C$23,"",M30+M36) | N37: =IF(9>'Summary & Assumptions'!$C$23,"",N30+N36) | O37: =IF(10>'Summary & Assumptions'!$C$23,"",O30+O36) | P37: =IF(11>'Summary & Assumptions'!$C$23,"",P30+P36) | Q37: =IF(12>'Summary & Assumptions'!$C$23,"",Q30+Q36) | R37: =IF(13>'Summary & Assumptions'!$C$23,"",R30+R36) | S37: =IF(14>'Summary & Assumptions'!$C$23,"",S30+S36) | T37: =IF(15>'Summary & Assumptions'!$C$23,"",T30+T36)
B38: Debt Balance (EOY) | E38: ='Summary & Assumptions'!$C$68+'Summary & Assumptions'!$C$69+'Summary & Assumptions'!$C$70 | F38: =IF(1>'Summary & Assumptions'!$C$23,"",Debt!F55) | G38: =IF(2>'Summary & Assumptions'!$C$23,"",Debt!G55) | H38: =IF(3>'Summary & Assumptions'!$C$23,"",Debt!H55) | I38: =IF(4>'Summary & Assumptions'!$C$23,"",Debt!I55) | J38: =IF(5>'Summary & Assumptions'!$C$23,"",Debt!J55) | K38: =IF(6>'Summary & Assumptions'!$C$23,"",Debt!K55) | L38: =IF(7>'Summary & Assumptions'!$C$23,"",Debt!L55) | M38: =IF(8>'Summary & Assumptions'!$C$23,"",Debt!M55) | N38: =IF(9>'Summary & Assumptions'!$C$23,"",Debt!N55) | O38: =IF(10>'Summary & Assumptions'!$C$23,"",Debt!O55) | P38: =IF(11>'Summary & Assumptions'!$C$23,"",Debt!P55) | Q38: =IF(12>'Summary & Assumptions'!$C$23,"",Debt!Q55) | R38: =IF(13>'Summary & Assumptions'!$C$23,"",Debt!R55) | S38: =IF(14>'Summary & Assumptions'!$C$23,"",Debt!S55) | T38: =IF(15>'Summary & Assumptions'!$C$23,"",Debt!T55)
B39: Asset Management Fee | F39: =IF(1>'Summary & Assumptions'!$C$23,"",-('Investor Waterfall'!$H$8*'Summary & Assumptions'!$C$73+'Investor Waterfall'!$H$9)) | G39: =IF(2>'Summary & Assumptions'!$C$23,"",-('Investor Waterfall'!$H$8*'Summary & Assumptions'!$C$73+'Investor Waterfall'!$H$9)) | H39: =IF(3>'Summary & Assumptions'!$C$23,"",-('Investor Waterfall'!$H$8*'Summary & Assumptions'!$C$73+'Investor Waterfall'!$H$9)) | I39: =IF(4>'Summary & Assumptions'!$C$23,"",-('Investor Waterfall'!$H$8*'Summary & Assumptions'!$C$73+'Investor Waterfall'!$H$9)) | J39: =IF(5>'Summary & Assumptions'!$C$23,"",-('Investor Waterfall'!$H$8*'Summary & Assumptions'!$C$73+'Investor Waterfall'!$H$9)) | K39: =IF(6>'Summary & Assumptions'!$C$23,"",-('Investor Waterfall'!$H$8*'Summary & Assumptions'!$C$73+'Investor Waterfall'!$H$9)) | L39: =IF(7>'Summary & Assumptions'!$C$23,"",-('Investor Waterfall'!$H$8*'Summary & Assumptions'!$C$73+'Investor Waterfall'!$H$9)) | M39: =IF(8>'Summary & Assumptions'!$C$23,"",-('Investor Waterfall'!$H$8*'Summary & Assumptions'!$C$73+'Investor Waterfall'!$H$9)) | N39: =IF(9>'Summary & Assumptions'!$C$23,"",-('Investor Waterfall'!$H$8*'Summary & Assumptions'!$C$73+'Investor Waterfall'!$H$9)) | O39: =IF(10>'Summary & Assumptions'!$C$23,"",-('Investor Waterfall'!$H$8*'Summary & Assumptions'!$C$73+'Investor Waterfall'!$H$9)) | P39: =IF(11>'Summary & Assumptions'!$C$23,"",-('Investor Waterfall'!$H$8*'Summary & Assumptions'!$C$73+'Investor Waterfall'!$H$9)) | Q39: =IF(12>'Summary & Assumptions'!$C$23,"",-('Investor Waterfall'!$H$8*'Summary & Assumptions'!$C$73+'Investor Waterfall'!$H$9)) | R39: =IF(13>'Summary & Assumptions'!$C$23,"",-('Investor Waterfall'!$H$8*'Summary & Assumptions'!$C$73+'Investor Waterfall'!$H$9)) | S39: =IF(14>'Summary & Assumptions'!$C$23,"",-('Investor Waterfall'!$H$8*'Summary & Assumptions'!$C$73+'Investor Waterfall'!$H$9)) | T39: =IF(15>'Summary & Assumptions'!$C$23,"",-('Investor Waterfall'!$H$8*'Summary & Assumptions'!$C$73+'Investor Waterfall'!$H$9))
B40: Levered Cash Flow | E40: =-'Summary & Assumptions'!$C$74 | F40: =IF(1>'Summary & Assumptions'!$C$23,"",F31+F35+F36+F39) | G40: =IF(2>'Summary & Assumptions'!$C$23,"",G31+G35+G36+G39) | H40: =IF(3>'Summary & Assumptions'!$C$23,"",H31+H35+H36+H39) | I40: =IF(4>'Summary & Assumptions'!$C$23,"",I31+I35+I36+I39) | J40: =IF(5>'Summary & Assumptions'!$C$23,"",J31+J35+J36+J39) | K40: =IF(6>'Summary & Assumptions'!$C$23,"",K31+K35+K36+K39) | L40: =IF(7>'Summary & Assumptions'!$C$23,"",L31+L35+L36+L39) | M40: =IF(8>'Summary & Assumptions'!$C$23,"",M31+M35+M36+M39) | N40: =IF(9>'Summary & Assumptions'!$C$23,"",N31+N35+N36+N39) | O40: =IF(10>'Summary & Assumptions'!$C$23,"",O31+O35+O36+O39) | P40: =IF(11>'Summary & Assumptions'!$C$23,"",P31+P35+P36+P39) | Q40: =IF(12>'Summary & Assumptions'!$C$23,"",Q31+Q35+Q36+Q39) | R40: =IF(13>'Summary & Assumptions'!$C$23,"",R31+R35+R36+R39) | S40: =IF(14>'Summary & Assumptions'!$C$23,"",S31+S35+S36+S39) | T40: =IF(15>'Summary & Assumptions'!$C$23,"",T31+T35+T36+T39)
B41: Levered IRR | D41: =IF(OR('Summary & Assumptions'!$H$6<=0,'P&L'!$Z$69<=0),0,IFERROR(IRR(E40:T40),0))
...

Sheet P&L
D1: =IF('Summary & Assumptions'!$C$6="",IFERROR(LEFT('Summary & Assumptions'!$C$7,FIND(",",'Summary & Assumptions'!$C$7)-1),'Summary & Assumptions'!$C$7),'Summary & Assumptions'!$C$6)&", "&'Summary & Assumptions'!$C$8&", "&'Summary & Assumptions'!$C$9&" - "&'Summary & Assumptions'!$C$11&" Units - Built in "&'Summary & Assumptions'!$C$12
B2: P&L — History to Pro Forma | D2: View Dashboard on Slung
B3: Press [+] above column T to expand the monthly history. Blank Year-1 input = adjusted T12 carries forward. Deductions entered positive.
B4: T12 Period Ending | D4: =EOMONTH(TODAY(),-1) | G4: ='OG T12'!$D$4 | AA4: =IF($AB$4=$AB$6,1,IF($AB$4=$AD$6,2,IF($AB$4=$AF$6,3,IF($AB$4=$AH$6,4,IF($AB$4=$AJ$6,5,IF(AND('P&L'!$U$28>0,OR('P&L'!$AM$4<>"Yes",N('Preferences'!$C$39)<=0)),1,2)))))) | AB4: =IF(AND('P&L'!$U$28>0,OR('P&L'!$AM$4<>"Yes",N('Preferences'!$C$39)<=0)),'P&L'!$U$6,"Market Estimate") | AD4: ← Choose the scenario that drives the model | AM4: No
AA5: In-Use: | AB5: =IF($AA$4=1,"In-Use","") | AD5: =IF($AA$4=2,"In-Use","") | AF5: =IF($AA$4=3,"In-Use","") | AH5: =IF($AA$4=4,"In-Use","") | AJ5: =IF($AA$4=5,"In-Use","") | AM5: =AB6
D6: =EDATE('P&L'!$D$4,-11) | E6: =EDATE('P&L'!$D$4,-10) | F6: =EDATE('P&L'!$D$4,-9) | G6: =EDATE('P&L'!$D$4,-8) | H6: =EDATE('P&L'!$D$4,-7) | I6: =EDATE('P&L'!$D$4,-6) | J6: =EDATE('P&L'!$D$4,-5) | K6: =EDATE('P&L'!$D$4,-4) | L6: =EDATE('P&L'!$D$4,-3) | M6: =EDATE('P&L'!$D$4,-2) | N6: =EDATE('P&L'!$D$4,-1) | O6: =EDATE('P&L'!$D$4,0) | P6: T12 Ann. | Q6: T9 Ann. | R6: T6 Ann. | S6: T3 Ann. | T6: Adjustment | U6: T12 | V6: / unit | W6: Year 1 Input | X6: Calc Type | Y6: Year 1 $ | Z6: YEAR 1 FINAL | AB6: ='P&L'!$U$6 | AC6: /unit | AD6: ="Market Estimate" | AE6: /unit | AF6: ="Scenario 2" | AG6: /unit | AH6: ="Scenario 3" | AI6: /unit | AJ6: ="Scenario 4" | AK6: /unit | AM6: =AD6 | AN6: Growth Override (%) | AO6: Ramp-Up (yrs) | AP6: Notes
B7: Income | AM7: =AF6
B8: Residential Income (GPR) | D8: =IFERROR(SUMPRODUCT((LEFT('OG T12'!$B$7:$B$226,LEN($B8))=$B8)*'OG T12'!$D$7:$P$226*(MONTH('OG T12'!$D$5:$P$5)=MONTH(D$6))*(YEAR('OG T12'!$D$5:$P$5)=YEAR(D$6))),0) | E8: =IFERROR(SUMPRODUCT((LEFT('OG T12'!$B$7:$B$226,LEN($B8))=$B8)*'OG T12'!$D$7:$P$226*(MONTH('OG T12'!$D$5:$P$5)=MONTH(E$6))*(YEAR('OG T12'!$D$5:$P$5)=YEAR(E$6))),0) | F8: =IFERROR(SUMPRODUCT((LEFT('OG T12'!$B$7:$B$226,LEN($B8))=$B8)*'OG T12'!$D$7:$P$226*(MONTH('OG T12'!$D$5:$P$5)=MONTH(F$6))*(YEAR('OG T12'!$D$5:$P$5)=YEAR(F$6))),0) | G8: =IFERROR(SUMPRODUCT((LEFT('OG T12'!$B$7:$B$226,LEN($B8))=$B8)*'OG T12'!$D$7:$P$226*(MONTH('OG T12'!$D$5:$P$5)=MONTH(G$6))*(YEAR('OG T12'!$D$5:$P$5)=YEAR(G$6))),0) | H8: =IFERROR(SUMPRODUCT((LEFT('OG T12'!$B$7:$B$226,LEN($B8))=$B8)*'OG T12'!$D$7:$P$226*(MONTH('OG T12'!$D$5:$P$5)=MONTH(H$6))*(YEAR('OG T12'!$D$5:$P$5)=YEAR(H$6))),0) | I8: =IFERROR(SUMPRODUCT((LEFT('OG T12'!$B$7:$B$226,LEN($B8))=$B8)*'OG T12'!$D$7:$P$226*(MONTH('OG T12'!$D$5:$P$5)=MONTH(I$6))*(YEAR('OG T12'!$D$5:$P$5)=YEAR(I$6))),0) | J8: =IFERROR(SUMPRODUCT((LEFT('OG T12'!$B$7:$B$226,LEN($B8))=$B8)*'OG T12'!$D$7:$P$226*(MONTH('OG T12'!$D$5:$P$5)=MONTH(J$6))*(YEAR('OG T12'!$D$5:$P$5)=YEAR(J$6))),0) | K8: =IFERROR(SUMPRODUCT((LEFT('OG T12'!$B$7:$B$226,LEN($B8))=$B8)*'OG T12'!$D$7:$P$226*(MONTH('OG T12'!$D$5:$P$5)=MONTH(K$6))*(YEAR('OG T12'!$D$5:$P$5)=YEAR(K$6))),0) | ... O8: =IFERROR(SUMPRODUCT((LEFT('OG T12'!$B$7:$B$226,LEN($B8))=$B8)*'OG T12'!$D$7:$P$226*(MONTH('OG T12'!$D$5:$P$5)=MONTH(O$6))*(YEAR('OG T12'!$D$5:$P$5)=YEAR(O$6))),0) | P8: =IF(SUMPRODUCT((LEFT('OG T12'!$B$7:$B$226,LEN($B8))=$B8)*ISNUMBER('OG T12'!$R$7:$R$226)*('OG T12'!$R$7:$R$226<>0))>0,SUMPRODUCT(--(LEFT('OG T12'!$B$7:$B$226,LEN($B8))=$B8),'OG T12'!$R$7:$R$226),IF(COUNT(D8:O8)>0,SUM(D8:O8),0)) | Q8: =IF(COUNT(G8:O8)>0,SUM(G8:O8)/9*12,0) | R8: =IF(COUNT(J8:O8)>0,SUM(J8:O8)/6*12,0) | S8: =IF(COUNT(M8:O8)>0,SUM(M8:O8)/3*12,0) | U8: =IF($U$6="T9",IF(COUNT(D8:O8)>0,Q8,P8),IF($U$6="T6",IF(COUNT(D8:O8)>0,R8,P8),IF($U$6="T3",IF(COUNT(D8:O8)>0,S8,P8),P8)))+T8 | V8: =IFERROR($U8/'Summary & Assumptions'!$C$11,0) | Y8: =IF($W8="",$U8,IF($X8="Total $",$W8,IF($X8="/ unit",$W8*'Summary & Assumptions'!$C$11,IF($X8="% of EGR",$W8*'P&L'!$U$28,IF($X8="/ SF",$W8*'Summary & Assumptions'!$C$16,IF($X8="% of historicals",$W8*$U8,IF($X8="$ / occ. unit",$W8*'Summary & Assumptions'!$C$15,$W8))))))) | Z8: =CHOOSE($AA$4,N(AB8),N(AD8),N(AF8),N(AH8),N(AJ8)) | AB8: =Y8 | AC8: =IFERROR(AB8/'Summary & Assumptions'!$C$11,0) | AD8: ='Preferences'!$C$39*'Summary & Assumptions'!$C$11*12 | AE8: =IFERROR(AD8/'Summary & Assumptions'!$C$11,0) | AG8: =IFERROR(AF8/'Summary & Assumptions'!$C$11,0) | AI8: =IFERROR(AH8/'Summary & Assumptions'!$C$11,0) | AK8: =IFERROR(AJ8/'Summary & Assumptions'!$C$11,0) | AM8: =AH6
B9: Loss to Lease | D9: =IFERROR(-SUMPRODUCT((LEFT('OG T12'!$B$7:$B$226,LEN($B9))=$B9)*'OG T12'!$D$7:$P$226*(MONTH('OG T12'!$D$5:$P$5)=MONTH(D$6))*(YEAR('OG T12'!$D$5:$P$5)=YEAR(D$6))),0) | E9: =IFERROR(-SUMPRODUCT((LEFT('OG T12'!$B$7:$B$226,LEN($B9))=$B9)*'OG T12'!$D$7:$P$226*(MONTH('OG T12'!$D$5:$P$5)=MONTH(E$6))*(YEAR('OG T12'!$D$5:$P$5)=YEAR(E$6))),0) | F9: =IFERROR(-SUMPRODUCT((LEFT('OG T12'!$B$7:$B$226,LEN($B9))=$B9)*'OG T12'!$D$7:$P$226*(MONTH('OG T12'!$D$5:$P$5)=MONTH(F$6))*(YEAR('OG T12'!$D$5:$P$5)=YEAR(F$6))),0) | G9: =IFERROR(-SUMPRODUCT((LEFT('OG T12'!$B$7:$B$226,LEN($B9))=$B9)*'OG T12'!$D$7:$P$226*(MONTH('OG T12'!$D$5:$P$5)=MONTH(G$6))*(YEAR('OG T12'!$D$5:$P$5)=YEAR(G$6))),0) | H9: =IFERROR(-SUMPRODUCT((LEFT('OG T12'!$B$7:$B$226,LEN($B9))=$B9)*'OG T12'!$D$7:$P$226*(MONTH('OG T12'!$D$5:$P$5)=MONTH(H$6))*(YEAR('OG T12'!$D$5:$P$5)=YEAR(H$6))),0) | I9: =IFERROR(-SUMPRODUCT((LEFT('OG T12'!$B$7:$B$226,LEN($B9))=$B9)*'OG T12'!$D$7:$P$226*(MONTH('OG T12'!$D$5:$P$5)=MONTH(I$6))*(YEAR('OG T12'!$D$5:$P$5)=YEAR(I$6))),0) | J9: =IFERROR(-SUMPRODUCT((LEFT('OG T12'!$B$7:$B$226,LEN($B9))=$B9)*'OG T12'!$D$7:$P$226*(MONTH('OG T12'!$D$5:$P$5)=MONTH(J$6))*(YEAR('OG T12'!$D$5:$P$5)=YEAR(J$6))),0) | K9: =IFERROR(-SUMPRODUCT((LEFT('OG T12'!$B$7:$B$226,LEN($B9))=$B9)*'OG T12'!$D$7:$P$226*(MONTH('OG T12'!$D$5:$P$5)=MONTH(K$6))*(YEAR('OG T12'!$D$5:$P$5)=YEAR(K$6))),0) | ... O9: =IFERROR(-SUMPRODUCT((LEFT('OG T12'!$B$7:$B$226,LEN($B9))=$B9)*'OG T12'!$D$7:$P$226*(MONTH('OG T12'!$D$5:$P$5)=MONTH(O$6))*(YEAR('OG T12'!$D$5:$P$5)=YEAR(O$6))),0) | P9: =IF(SUMPRODUCT((LEFT('OG T12'!$B$7:$B$226,LEN($B9))=$B9)*ISNUMBER('OG T12'!$R$7:$R$226)*('OG T12'!$R$7:$R$226<>0))>0,-SUMPRODUCT(--(LEFT('OG T12'!$B$7:$B$226,LEN($B9))=$B9),'OG T12'!$R$7:$R$226),IF(COUNT(D9:O9)>0,SUM(D9:O9),0)) | Q9: =IF(COUNT(G9:O9)>0,SUM(G9:O9)/9*12,0) | R9: =IF(COUNT(J9:O9)>0,SUM(J9:O9)/6*12,0) | S9: =IF(COUNT(M9:O9)>0,SUM(M9:O9)/3*12,0) | U9: =IF($U$6="T9",IF(COUNT(D9:O9)>0,Q9,P9),IF($U$6="T6",IF(COUNT(D9:O9)>0,R9,P9),IF($U$6="T3",IF(COUNT(D9:O9)>0,S9,P9),P9)))+T9 | V9: =IFERROR($U9/'Summary & Assumptions'!$C$11,0) | Y9: =IF($W9="",$U9,IF($X9="Total $",$W9,IF($X9="/ unit",$W9*'Summary & Assumptions'!$C$11,IF($X9="% of EGR",$W9*'P&L'!$U$28,IF($X9="/ SF",$W9*'Summary & Assumptions'!$C$16,IF($X9="% of historicals",$W9*$U9,IF($X9="$ / occ. unit",$W9*'Summary & Assumptions'!$C$15,$W9))))))) | Z9: =CHOOSE($AA$4,N(AB9),N(AD9),N(AF9),N(AH9),N(AJ9)) | AB9: =Y9 | AC9: =IFERROR(AB9/'Summary & Assumptions'!$C$11,0) | AD9: 0 | AE9: =IFERROR(AD9/'Summary & Assumptions'!$C$11,0) | AG9: =IFERROR(AF9/'Summary & Assumptions'!$C$11,0) | AI9: =IFERROR(AH9/'Summary & Assumptions'!$C$11,0) | AK9: =IFERROR(AJ9/'Summary & Assumptions'!$C$11,0) | AM9: =AJ6
B10: Vacancy | D10: =IFERROR(-SUMPRODUCT((LEFT('OG T12'!$B$7:$B$226,LEN($B10))=$B10)*'OG T12'!$D$7:$P$226*(MONTH('OG T12'!$D$5:$P$5)=MONTH(D$6))*(YEAR('OG T12'!$D$5:$P$5)=YEAR(D$6))),0) | E10: =IFERROR(-SUMPRODUCT((LEFT('OG T12'!$B$7:$B$226,LEN($B10))=$B10)*'OG T12'!$D$7:$P$226*(MONTH('OG T12'!$D$5:$P$5)=MONTH(E$6))*(YEAR('OG T12'!$D$5:$P$5)=YEAR(E$6))),0) | F10: =IFERROR(-SUMPRODUCT((LEFT('OG T12'!$B$7:$B$226,LEN($B10))=$B10)*'OG T12'!$D$7:$P$226*(MONTH('OG T12'!$D$5:$P$5)=MONTH(F$6))*(YEAR('OG T12'!$D$5:$P$5)=YEAR(F$6))),0) | G10: =IFERROR(-SUMPRODUCT((LEFT('OG T12'!$B$7:$B$226,LEN($B10))=$B10)*'OG T12'!$D$7:$P$226*(MONTH('OG T12'!$D$5:$P$5)=MONTH(G$6))*(YEAR('OG T12'!$D$5:$P$5)=YEAR(G$6))),0) | H10: =IFERROR(-SUMPRODUCT((LEFT('OG T12'!$B$7:$B$226,LEN($B10))=$B10)*'OG T12'!$D$7:$P$226*(MONTH('OG T12'!$D$5:$P$5)=MONTH(H$6))*(YEAR('OG T12'!$D$5:$P$5)=YEAR(H$6))),0) | I10: =IFERROR(-SUMPRODUCT((LEFT('OG T12'!$B$7:$B$226,LEN($B10))=$B10)*'OG T12'!$D$7:$P$226*(MONTH('OG T12'!$D$5:$P$5)=MONTH(I$6))*(YEAR('OG T12'!$D$5:$P$5)=YEAR(I$6))),0) | J10: =IFERROR(-SUMPRODUCT((LEFT('OG T12'!$B$7:$B$226,LEN($B10))=$B10)*'OG T12'!$D$7:$P$226*(MONTH('OG T12'!$D$5:$P$5)=MONTH(J$6))*(YEAR('OG T12'!$D$5:$P$5)=YEAR(J$6))),0) | K10: =IFERROR(-SUMPRODUCT((LEFT('OG T12'!$B$7:$B$226,LEN($B10))=$B10)*'OG T12'!$D$7:$P$226*(MONTH('OG T12'!$D$5:$P$5)=MONTH(K$6))*(YEAR('OG T12'!$D$5:$P$5)=YEAR(K$6))),0) | ... O10: =IFERROR(-SUMPRODUCT((LEFT('OG T12'!$B$7:$B$226,LEN($B10))=$B10)*'OG T12'!$D$7:$P$226*(MONTH('OG T12'!$D$5:$P$5)=MONTH(O$6))*(YEAR('OG T12'!$D$5:$P$5)=YEAR(O$6))),0) | P10: =IF(SUMPRODUCT((LEFT('OG T12'!$B$7:$B$226,LEN($B10))=$B10)*ISNUMBER('OG T12'!$R$7:$R$226)*('OG T12'!$R$7:$R$226<>0))>0,-SUMPRODUCT(--(LEFT('OG T12'!$B$7:$B$226,LEN($B10))=$B10),'OG T12'!$R$7:$R$226),IF(COUNT(D10:O10)>0,SUM(D10:O10),0)) | Q10: =IF(COUNT(G10:O10)>0,SUM(G10:O10)/9*12,0) | R10: =IF(COUNT(J10:O10)>0,SUM(J10:O10)/6*12,0) | S10: =IF(COUNT(M10:O10)>0,SUM(M10:O10)/3*12,0) | U10: =IF($U$6="T9",IF(COUNT(D10:O10)>0,Q10,P10),IF($U$6="T6",IF(COUNT(D10:O10)>0,R10,P10),IF($U$6="T3",IF(COUNT(D10:O10)>0,S10,P10),P10)))+T10 | V10: =IFERROR($U10/'Summary & Assumptions'!$C$11,0) | Y10: =IF($W10="",$U10,IF($X10="Total $",$W10,IF($X10="/ unit",$W10*'Summary & Assumptions'!$C$11,IF($X10="% of EGR",$W10*'P&L'!$U$28,IF($X10="/ SF",$W10*'Summary & Assumptions'!$C$16,IF($X10="% of historicals",$W10*$U10,IF($X10="$ / occ. unit",$W10*'Summary & Assumptions'!$C$15,$W10))))))) | Z10: =CHOOSE($AA$4,N(AB10),N(AD10),N(AF10),N(AH10),N(AJ10)) | AB10: =Y10 | AC10: =IFERROR(AB10/'Summary & Assumptions'!$C$11,0) | AD10: =AD8*INDEX('CashFlow'!$F$9:$P$9,1,1) | AE10: =IFERROR(AD10/'Summary & Assumptions'!$C$11,0) | AG10: =IFERROR(AF10/'Summary & Assumptions'!$C$11,0) | AI10: =IFERROR(AH10/'Summary & Assumptions'!$C$11,0) | AK10: =IFERROR(AJ10/'Summary & Assumptions'!$C$11,0)
